Workbook

Sheet Introduction
B2: IndieRex's Trollskull Manor Management Tool v1.0
B4: What is it?
B5: Chapter 2 of Waterdeep: Dragon Heist introduces one of the shining pieces of the campaign - Trollskull Manor. This tool gives DMs a way to more easily track and customize the management of Trollskull Manor and determine what the players should get paid for their efforts (or pay back!) rather than the rules as written.
B7: Want more D&D content from IndieRex? Found a bug? Got a suggestion?
B8: Check out my blog at:
B9: http://www.IndieRex.com
B11: Instructions
B12: Note: For ease of use and readability, $ signs have been used as a substitute for GP/Dragons
B14: 1) Adjust the "One-Time Expenses" tab to meet the needs of your campaign and which repairs you will require
B15: - As players finish repairs, mark them off on the same tab
B16: 2) Once the players are open for business begin using the "Expenses" and "Income Statement" tabs
B17: - The "Expenses" tab should be used to track when players take on expenses (e.g., hiring staff, buying food)
... B23: - The Alexandrian Remix for ideas on staff members

Sheet PRE-OPENING>>

Sheet 1 - One-Time Expenses
B2: One-Time Expenses
B3: Trollskull Manor shouldn't be opened for business until all of the initial one-time repairs are completed!
B4: Instructions: Adjust the cost of the repairs or add/remove repairs or upgrades as desired. As the players pay for a repair, change the "Paid" column to "Yes"
B6: One-Time Expenses | C6: Cost (GP) | D6: Paid?
B7: Fellowship of Innkeepers Membership | C7: 10 | D7: No
B8: Guild Licenses | C8: 240 | D8: No
B9: Roof Repair | C9: 200 | D9: No
B10: Brick Repair | C10: 45 | D10: No
B11: Water Damage | C11: 325 | D11: No
B12: Broken Windows | C12: 50 | D12: No
B13: Replace Furniture | C13: 50 | D13: No
B14: Replace Kitchen Hearth | C14: 100 | D14: No
B15: Purchase Brewing Equipment | C15: 50 | D15: No
B16: Kitchen Essentials | C16: 30 | D16: No
B17: Cleaning Chimneys | C17: 10 | D17: No
B18: Fix Lighting | C18: 25 | D18: No
... B21: Replace Sign | C21: 15 | D21: No
B30: Total Remaining: | C30: =SUMIF(D7:D29,"No",C7:C29) -> 1250

Sheet POST-OPENING>>

Sheet 2- Expenses
B2: Expenses
B3: Determine what ongoing expenses the party is currently paying for
B4: Instructions:
B5: 1) Adjust the type and cost of the available expenses as desired. Don't edit the grey cells!
B6: 2) As the players take on an expense, change the Hired/On Menu/etc. column to "Yes"
B7: 3) Advertising should only last for the number of time periods mentioned and then be turned off
B9: Tips:
B10: - You don't have to give players access to everything right away. They may need to meet the right people, make connections, etc.
B11: - Consider imposing expense based restrictions on your players (e.g., you can't serve drinks without a bartender, no inn revenues without manager/housekeeping)
B12: - Consider providing some flavor to your drinks and food menu by allowing players to name them (e.g., Trollskull Brew)
B13: - Consider restricting players from using the same types of advertising multiple times in a row
B14: - Balance the costs and renown values based on how much money coming in feels appropriate for your party
B16: Staff | I16: Advertising and Other Temporary Expenses
B17: Name | C17: Role | D17: Hired | E17: Renown | F17: Salary (GP) | G17: Expense (GP) | I17: Type | J17: Duration | K17: Active? | L17: Renown | M17: Cost (GP) | N17: Expense (GP)
B18: Lif | C18: Bartender | D18: Yes | E18: 1 | F18: 0 | G18: =IF(D18="Yes",F18,"") -> 0 | I18: Post Fliers | J18: 1 Period | K18: Yes | L18: 1 | M18: 4 | N18: =IF(K18="Yes",M18,"") -> 4
B19: Mosp | C19: Bartender | D19: No | E19: 0 | F19: 2 | G19: =IF(D19="Yes",F19,"") | I19: Hire Orphans to Spread Word | J19: 2 Periods | K19: No | L19: 1 | M19: 4 | N19: =IF(K19="Yes",M19,"")
B20: Lillian Haekan | C20: Bartender | D20: No | E20: 1 | F20: 4 | G20: =IF(D20="Yes",F20,"") | I20: Hire Town Crier | J20: 2 Periods | K20: No | L20: 1 | M20: 16 | N20: =IF(K20="Yes",M20,"")
B21: Ryba | C21: Barmaid | D21: No | E21: -1 | F21: 2 | G21: =IF(D21="Yes",F21,"") | I21: Magic Display | J21: 1 Period | K21: No | L21: 2 | M21: 24 | N21: =IF(K21="Yes",M21,"")
B22: Althea | C22: Barmaid | D22: Yes | E22: 2 | F22: 6 | G22: =IF(D22="Yes",F22,"") -> 6 | I22: Emmek Sabotage | J22: 1 Period | K22: Yes | L22: -2 | M22: 16 | N22: =IF(K22="Yes",M22,"") -> 16
B23: Patric Nivka | C23: Barmaid | D23: No | E23: 1 | F23: 2 | G23: =IF(D23="Yes",F23,"") | I23: Tavern Brawl | J23: 1 Period | K23: No | L23: 0 | M23: 24 | N23: =IF(K23="Yes",M23,"")
B24: Isgrigg | C24: Cook | D24: No | E24: 1 | F24: 2 | G24: =IF(D24="Yes",F24,"") | N24: =IF(K24="Yes",M24,"")
B25: Turgattan Thornhammer | C25: Cook | D25: No | E25: 0 | F25: 2 | G25: =IF(D25="Yes",F25,"") | N25: =IF(K25="Yes",M25,"")
B26: Reynardo Greenleaf | C26: Cook | D26: No | E26: 2 | F26: 6 | G26: =IF(D26="Yes",F26,"") | N26: =IF(K26="Yes",M26,"")
B27: Bard | C27: Entertainer | D27: No | E27: 1 | F27: 6 | G27: =IF(D27="Yes",F27,"") | N27: =IF(K27="Yes",M27,"")
B28: Threestrings | C28: Entertainer | D28: No | E28: 2 | F28: 8 | G28: =IF(D28="Yes",F28,"") | N28: =IF(K28="Yes",M28,"")
B29: Troll Mascot | C29: Entertainer | D29: No | E29: 1 | F29: 4 | G29: =IF(D29="Yes",F29,"") | N29: =IF(K29="Yes",M29,"")
B30: Thurman | C30: Guard | D30: No | E30: 0 | F30: 4 | G30: =IF(D30="Yes",F30,"") | N30: =IF(K30="Yes",M30,"")
B31: Titus Amellus | C31: Manager | D31: No | E31: 0 | F31: 6 | G31: =IF(D31="Yes",F31,"") | N31: =IF(K31="Yes",M31,"")
G32: =IF(D32="Yes",F32,"") | N32: =IF(K32="Yes",M32,"")
G33: =IF(D33="Yes",F33,"") | N33: =IF(K33="Yes",M33,"")
G34: =IF(D34="Yes",F34,"") | N34: =IF(K34="Yes",M34,"")
G35: =IF(D35="Yes",F35,"") | N35: =IF(K35="Yes",M35,"")
G36: =IF(D36="Yes",F36,"") | N36: =IF(K36="Yes",M36,"")
G37: =IF(D37="Yes",F37,"") | N37: =IF(K37="Yes",M37,"")
G38: =IF(D38="Yes",F38,"") | N38: =IF(K38="Yes",M38,"")
D39: Renown: | E39: =SUMIF(D18:D38,"Yes",E18:E38) -> 3 | F39: Total Expense: | G39: =SUM(G18:G38) -> 6 | K39: Renown: | L39: =SUMIF(K18:K38,"Yes",L18:L38) -> -1 | M39: Total Expense: | N39: =SUM(N18:N38) -> 20
B41: Food & Drink | I41: Optional Ongoing Expenses
B42: Name | D42: On Menu | E42: Renown | F42: Cost (GP) | G42: Expense (GP) | I42: Type | K42: Active? | L42: Renown | M42: Cost (GP) | N42: Expense (GP)
B43: Snacks | D43: Yes | E43: 0.5 | F43: 4 | G43: =IF(D43="Yes",F43,"") -> 4 | I43: General Upkeep | K43: Yes | L43: 0 | M43: 15 | N43: =IF(K43="Yes",M43,"") -> 15
B44: Meals | D44: No | E44: 1 | F44: 8 | G44: =IF(D44="Yes",F44,"") | I44: Permits and Licensing | K44: Yes | L44: 0 | M44: 2 | N44: =IF(K44="Yes",M44,"") -> 2
...

Sheet 3- Income Statement
B2: Income Statement
B3: To manage operations once trollskull manor is open for business!
B4: Instructions:
B5: 1) Turn off/on the different types of revenue as appropriate using the "Active?" column (e.g., the party has the bar up and running but not the rooms)
B6: 2) Edit the "GP per Renown" values for the Taproom and Inn to meet your needs (recommend not changing after setting once so profits are consistent)
B7: 3) At the end of each 'time period' the players should receive (or pay) the amount listed below in "Profit"
B8: Note: The campaign suggest a ten-day as the 'time period', but feel to use whatever works best for your game
B10: Expenses | C10: Active? | D10: GP | F10: Renown
B11: Staff | C11: Yes | D11: =IF(C11="Yes",'2- Expenses'!G39,"") -> 6 | F11: ='2- Expenses'!E39 -> 3
B12: Advertising | C12: Yes | D12: =IF(C11="Yes",'2- Expenses'!N39,"") -> 20 | F12: ='2- Expenses'!L39 -> -1
B13: Food & Drink | C13: Yes | D13: =IF(C11="Yes",'2- Expenses'!G59,"") -> 8 | F13: ='2- Expenses'!E59 -> 1
B14: Upkeep and Other | C14: Yes | D14: =IF(C11="Yes",'2- Expenses'!N59,"") -> 20 | F14: ='2- Expenses'!L59 -> 0
B15: Total | D15: =SUM(D11:D14) -> 54 | F15: =SUM(F11:F14) -> 3
B17: Revenues | C17: Active? | D17: GP | F17: GP per Renown | H17: Notes:
B18: Taproom | C18: Yes | D18: =IF(F15>0,F15*F18,"") -> 60 | F18: 20 | H18: Consider turning off if haven't hired a barkeep or procured drinks/food
B19: Inn | C19: Yes | D19: =IF(F15>0,F15*F19,"") -> 45 | F19: 15 | H19: Consider turning off if not paying for housekeeping or a general manager
B20: Other | C20: - | D20: 1 | F20: - | H20: Use this row to add in additional flat revenues if desired
B21: Sub-Total | D21: =SUM(D18:D20) -> 106
B23: Profit | D23: =D21-D15 -> 52
